BEGIN:VCALENDAR
VERSION:2.0
PRODID:-//Petaling Jaya Evangelical Free Church - ECPv6.15.16.1//NONSGML v1.0//EN
CALSCALE:GREGORIAN
METHOD:PUBLISH
X-ORIGINAL-URL:https://pjefc.org
X-WR-CALDESC:Events for Petaling Jaya Evangelical Free Church
REFRESH-INTERVAL;VALUE=DURATION:PT1H
X-Robots-Tag:noindex
X-PUBLISHED-TTL:PT1H
BEGIN:VTIMEZONE
TZID:Asia/Shanghai
BEGIN:STANDARD
TZOFFSETFROM:+0800
TZOFFSETTO:+0800
TZNAME:CST
DTSTART:20250101T000000
END:STANDARD
END:VTIMEZONE
BEGIN:VEVENT
DTSTART;TZID=Asia/Shanghai:20261002T203000
DTEND;TZID=Asia/Shanghai:20261002T223000
DTSTAMP:20260422T164455
CREATED:20240430T083511Z
LAST-MODIFIED:20260109T063930Z
UID:10003378-1790973000-1790980200@pjefc.org
SUMMARY:【CUG】 Bible Study
DESCRIPTION:College University Group (CUG) is a vibrant community for 17-23 year-olds\, fostering friendship\, growth\, and support. Engage in enriching activities\, events\, and discussions tailored to your college journey. \nFor any inquiries\, please contact Eugene Loh at 012-444 0358. WhatsApp Eugene
URL:https://pjefc.org/event/cug-biblestudy/2026-10-02/
LOCATION:Studio 2 (First Level)
ATTACH;FMTTYPE=image/png:https://pjefc.org/swx/wp-content/uploads/2024/04/Event-CUG.png
END:VEVENT
BEGIN:VEVENT
DTSTART;TZID=Asia/Shanghai:20261007T203000
DTEND;TZID=Asia/Shanghai:20261007T214500
DTSTAMP:20260422T164455
CREATED:20251230T030236Z
LAST-MODIFIED:20260107T015859Z
UID:10003159-1791405000-1791409500@pjefc.org
SUMMARY:【Prayer Meeting】 Wednesday Evening
DESCRIPTION:A time set aside for believers to get together and engage in prayer as a group. \nMeeting ID: 853 4944 2203\nPasscode: pjefcpray \nJoin here. \nFor any inquiries\, please contact Pr James Yong at 016- 217 6378. WhatsApp Pr James
URL:https://pjefc.org/event/wednesday-prayer-meeting/2026-10-07/
LOCATION:Zoom
ATTACH;FMTTYPE=image/png:https://pjefc.org/swx/wp-content/uploads/2022/12/Event-Wednesday-Prayer-Meeting.png
END:VEVENT
BEGIN:VEVENT
DTSTART;TZID=Asia/Shanghai:20261009T203000
DTEND;TZID=Asia/Shanghai:20261009T223000
DTSTAMP:20260422T164455
CREATED:20240430T083511Z
LAST-MODIFIED:20260109T063930Z
UID:10003379-1791577800-1791585000@pjefc.org
SUMMARY:【CUG】 Bible Study
DESCRIPTION:College University Group (CUG) is a vibrant community for 17-23 year-olds\, fostering friendship\, growth\, and support. Engage in enriching activities\, events\, and discussions tailored to your college journey. \nFor any inquiries\, please contact Eugene Loh at 012-444 0358. WhatsApp Eugene
URL:https://pjefc.org/event/cug-biblestudy/2026-10-09/
LOCATION:Studio 2 (First Level)
ATTACH;FMTTYPE=image/png:https://pjefc.org/swx/wp-content/uploads/2024/04/Event-CUG.png
END:VEVENT
BEGIN:VEVENT
DTSTART;TZID=Asia/Shanghai:20261014T203000
DTEND;TZID=Asia/Shanghai:20261014T214500
DTSTAMP:20260422T164455
CREATED:20251230T030236Z
LAST-MODIFIED:20260107T015859Z
UID:10003160-1792009800-1792014300@pjefc.org
SUMMARY:【Prayer Meeting】 Wednesday Evening
DESCRIPTION:A time set aside for believers to get together and engage in prayer as a group. \nMeeting ID: 853 4944 2203\nPasscode: pjefcpray \nJoin here. \nFor any inquiries\, please contact Pr James Yong at 016- 217 6378. WhatsApp Pr James
URL:https://pjefc.org/event/wednesday-prayer-meeting/2026-10-14/
LOCATION:Zoom
ATTACH;FMTTYPE=image/png:https://pjefc.org/swx/wp-content/uploads/2022/12/Event-Wednesday-Prayer-Meeting.png
END:VEVENT
BEGIN:VEVENT
DTSTART;TZID=Asia/Shanghai:20261016T203000
DTEND;TZID=Asia/Shanghai:20261016T223000
DTSTAMP:20260422T164455
CREATED:20240430T084852Z
LAST-MODIFIED:20260211T075312Z
UID:10003389-1792182600-1792189800@pjefc.org
SUMMARY:【CUG】 Discipleship Week
DESCRIPTION:College University Group (CUG) is a vibrant community for 17-23 year-olds\, fostering friendship\, growth\, and support. Engage in enriching activities\, events\, and discussions tailored to your college journey. \nFor any inquiries\, please contact Eugene Loh at 012-444 0358. WhatsApp Eugene
URL:https://pjefc.org/event/cug-dw/2026-10-16/
LOCATION:Studio 2 (First Level)
ATTACH;FMTTYPE=image/png:https://pjefc.org/swx/wp-content/uploads/2024/04/Event-CUG.png
END:VEVENT
BEGIN:VEVENT
DTSTART;TZID=Asia/Shanghai:20261028T203000
DTEND;TZID=Asia/Shanghai:20261028T214500
DTSTAMP:20260422T164455
CREATED:20251230T030236Z
LAST-MODIFIED:20260107T015859Z
UID:10003162-1793219400-1793223900@pjefc.org
SUMMARY:【Prayer Meeting】 Wednesday Evening
DESCRIPTION:A time set aside for believers to get together and engage in prayer as a group. \nMeeting ID: 853 4944 2203\nPasscode: pjefcpray \nJoin here. \nFor any inquiries\, please contact Pr James Yong at 016- 217 6378. WhatsApp Pr James
URL:https://pjefc.org/event/wednesday-prayer-meeting/2026-10-28/
LOCATION:Zoom
ATTACH;FMTTYPE=image/png:https://pjefc.org/swx/wp-content/uploads/2022/12/Event-Wednesday-Prayer-Meeting.png
END:VEVENT
BEGIN:VEVENT
DTSTART;TZID=Asia/Shanghai:20261030T200000
DTEND;TZID=Asia/Shanghai:20261030T220000
DTSTAMP:20260422T164455
CREATED:20260107T052403Z
LAST-MODIFIED:20260126T135731Z
UID:10003341-1793390400-1793397600@pjefc.org
SUMMARY:【Prayer】 Breath of Heaven
DESCRIPTION:An extended time set aside for believers to get together and engage in prayer as a group. \nFor any inquiries\, please contact Pr James Yong at 016- 217 6378. WhatsApp Pr James
URL:https://pjefc.org/event/breath-of-heaven/2026-10-30/
LOCATION:Chapel (Basement)
ATTACH;FMTTYPE=image/png:https://pjefc.org/swx/wp-content/uploads/2026/01/web-save-the-date.png
END:VEVENT
BEGIN:VEVENT
DTSTART;TZID=Asia/Shanghai:20261031T160000
DTEND;TZID=Asia/Shanghai:20261031T170000
DTSTAMP:20260422T164455
CREATED:20231230T044250Z
LAST-MODIFIED:20260421T012305Z
UID:10003334-1793462400-1793466000@pjefc.org
SUMMARY:【Foodbank】 Distribution
DESCRIPTION:If you are in need of food assistance\, you can receive some food items (e.g. rice\, biscuit\, milo) from our Foodbank while stocks last.
URL:https://pjefc.org/event/foodbank-distribution/2026-10-31/
LOCATION:Canteen (Basement)
ATTACH;FMTTYPE=image/png:https://pjefc.org/swx/wp-content/uploads/2022/10/slider-foodbank-distribution.png
END:VEVENT
END:VCALENDAR