BEGIN:VCALENDAR
VERSION:2.0
PRODID:-//Petaling Jaya Evangelical Free Church - ECPv6.15.16.1//NONSGML v1.0//EN
CALSCALE:GREGORIAN
METHOD:PUBLISH
X-ORIGINAL-URL:https://pjefc.org
X-WR-CALDESC:Events for Petaling Jaya Evangelical Free Church
REFRESH-INTERVAL;VALUE=DURATION:PT1H
X-Robots-Tag:noindex
X-PUBLISHED-TTL:PT1H
BEGIN:VTIMEZONE
TZID:Asia/Shanghai
BEGIN:STANDARD
TZOFFSETFROM:+0800
TZOFFSETTO:+0800
TZNAME:CST
DTSTART:20250101T000000
END:STANDARD
END:VTIMEZONE
BEGIN:VEVENT
DTSTART;TZID=Asia/Shanghai:20260902T203000
DTEND;TZID=Asia/Shanghai:20260902T214500
DTSTAMP:20260422T120214
CREATED:20251230T030236Z
LAST-MODIFIED:20260107T015859Z
UID:10003155-1788381000-1788385500@pjefc.org
SUMMARY:【Prayer Meeting】 Wednesday Evening
DESCRIPTION:A time set aside for believers to get together and engage in prayer as a group. \nMeeting ID: 853 4944 2203\nPasscode: pjefcpray \nJoin here. \nFor any inquiries\, please contact Pr James Yong at 016- 217 6378. WhatsApp Pr James
URL:https://pjefc.org/event/wednesday-prayer-meeting/2026-09-02/
LOCATION:Zoom
ATTACH;FMTTYPE=image/png:https://pjefc.org/swx/wp-content/uploads/2022/12/Event-Wednesday-Prayer-Meeting.png
END:VEVENT
BEGIN:VEVENT
DTSTART;TZID=Asia/Shanghai:20260904T203000
DTEND;TZID=Asia/Shanghai:20260904T223000
DTSTAMP:20260422T120214
CREATED:20240430T083511Z
LAST-MODIFIED:20260109T063930Z
UID:10003376-1788553800-1788561000@pjefc.org
SUMMARY:【CUG】 Bible Study
DESCRIPTION:College University Group (CUG) is a vibrant community for 17-23 year-olds\, fostering friendship\, growth\, and support. Engage in enriching activities\, events\, and discussions tailored to your college journey. \nFor any inquiries\, please contact Eugene Loh at 012-444 0358. WhatsApp Eugene
URL:https://pjefc.org/event/cug-biblestudy/2026-09-04/
LOCATION:Studio 2 (First Level)
ATTACH;FMTTYPE=image/png:https://pjefc.org/swx/wp-content/uploads/2024/04/Event-CUG.png
END:VEVENT
BEGIN:VEVENT
DTSTART;TZID=Asia/Shanghai:20260909T203000
DTEND;TZID=Asia/Shanghai:20260909T214500
DTSTAMP:20260422T120214
CREATED:20251230T030236Z
LAST-MODIFIED:20260107T015859Z
UID:10003156-1788985800-1788990300@pjefc.org
SUMMARY:【Prayer Meeting】 Wednesday Evening
DESCRIPTION:A time set aside for believers to get together and engage in prayer as a group. \nMeeting ID: 853 4944 2203\nPasscode: pjefcpray \nJoin here. \nFor any inquiries\, please contact Pr James Yong at 016- 217 6378. WhatsApp Pr James
URL:https://pjefc.org/event/wednesday-prayer-meeting/2026-09-09/
LOCATION:Zoom
ATTACH;FMTTYPE=image/png:https://pjefc.org/swx/wp-content/uploads/2022/12/Event-Wednesday-Prayer-Meeting.png
END:VEVENT
BEGIN:VEVENT
DTSTART;TZID=Asia/Shanghai:20260911T203000
DTEND;TZID=Asia/Shanghai:20260911T223000
DTSTAMP:20260422T120214
CREATED:20240430T083511Z
LAST-MODIFIED:20260109T063930Z
UID:10003377-1789158600-1789165800@pjefc.org
SUMMARY:【CUG】 Bible Study
DESCRIPTION:College University Group (CUG) is a vibrant community for 17-23 year-olds\, fostering friendship\, growth\, and support. Engage in enriching activities\, events\, and discussions tailored to your college journey. \nFor any inquiries\, please contact Eugene Loh at 012-444 0358. WhatsApp Eugene
URL:https://pjefc.org/event/cug-biblestudy/2026-09-11/
LOCATION:Studio 2 (First Level)
ATTACH;FMTTYPE=image/png:https://pjefc.org/swx/wp-content/uploads/2024/04/Event-CUG.png
END:VEVENT
BEGIN:VEVENT
DTSTART;TZID=Asia/Shanghai:20260918T203000
DTEND;TZID=Asia/Shanghai:20260918T223000
DTSTAMP:20260422T120214
CREATED:20240430T084852Z
LAST-MODIFIED:20260211T075312Z
UID:10003388-1789763400-1789770600@pjefc.org
SUMMARY:【CUG】 Discipleship Week
DESCRIPTION:College University Group (CUG) is a vibrant community for 17-23 year-olds\, fostering friendship\, growth\, and support. Engage in enriching activities\, events\, and discussions tailored to your college journey. \nFor any inquiries\, please contact Eugene Loh at 012-444 0358. WhatsApp Eugene
URL:https://pjefc.org/event/cug-dw/2026-09-18/
LOCATION:Studio 2 (First Level)
ATTACH;FMTTYPE=image/png:https://pjefc.org/swx/wp-content/uploads/2024/04/Event-CUG.png
END:VEVENT
BEGIN:VEVENT
DTSTART;TZID=Asia/Shanghai:20260923T203000
DTEND;TZID=Asia/Shanghai:20260923T214500
DTSTAMP:20260422T120214
CREATED:20251230T030236Z
LAST-MODIFIED:20260107T015859Z
UID:10003157-1790195400-1790199900@pjefc.org
SUMMARY:【Prayer Meeting】 Wednesday Evening
DESCRIPTION:A time set aside for believers to get together and engage in prayer as a group. \nMeeting ID: 853 4944 2203\nPasscode: pjefcpray \nJoin here. \nFor any inquiries\, please contact Pr James Yong at 016- 217 6378. WhatsApp Pr James
URL:https://pjefc.org/event/wednesday-prayer-meeting/2026-09-23/
LOCATION:Zoom
ATTACH;FMTTYPE=image/png:https://pjefc.org/swx/wp-content/uploads/2022/12/Event-Wednesday-Prayer-Meeting.png
END:VEVENT
BEGIN:VEVENT
DTSTART;TZID=Asia/Shanghai:20260930T203000
DTEND;TZID=Asia/Shanghai:20260930T214500
DTSTAMP:20260422T120214
CREATED:20251230T030236Z
LAST-MODIFIED:20260107T015859Z
UID:10003158-1790800200-1790804700@pjefc.org
SUMMARY:【Prayer Meeting】 Wednesday Evening
DESCRIPTION:A time set aside for believers to get together and engage in prayer as a group. \nMeeting ID: 853 4944 2203\nPasscode: pjefcpray \nJoin here. \nFor any inquiries\, please contact Pr James Yong at 016- 217 6378. WhatsApp Pr James
URL:https://pjefc.org/event/wednesday-prayer-meeting/2026-09-30/
LOCATION:Zoom
ATTACH;FMTTYPE=image/png:https://pjefc.org/swx/wp-content/uploads/2022/12/Event-Wednesday-Prayer-Meeting.png
END:VEVENT
END:VCALENDAR